BEGIN:VCALENDAR
VERSION:2.0
PRODID:spatie/icalendar-generator
DESCRIPTION:Events from Trinity Lutheran Church ELCA - Arkdale\, WI
X-WR-CALDESC:Events from Trinity Lutheran Church ELCA - Arkdale\, WI
REFRESH-INTERVAL;VALUE=DURATION:PT1440M
X-PUBLISHED-TTL:PT1440M
BEGIN:VTIMEZONE
TZID:Etc/GMT+0
BEGIN:STANDARD
DTSTART:20250702T000000Z
TZOFFSETFROM:+0000
TZOFFSETTO:+0000
END:STANDARD
END:VTIMEZONE
BEGIN:VTIMEZONE
TZID:UTC
BEGIN:STANDARD
DTSTART:20250727T132302Z
TZOFFSETFROM:+0000
TZOFFSETTO:+0000
END:STANDARD
END:VTIMEZONE
BEGIN:VEVENT
UID:7635-1176
DTSTAMP:20260423T132302Z
SUMMARY:Palm Sunday
LOCATION:
ORGANIZER;CN=Danna Peterson:MAILTO:churchoffice@arkdaletlc.org
DTSTART;TZID=Etc/GMT+0;VALUE=DATE:20260329
DTEND;TZID=Etc/GMT+0;VALUE=DATE:20260330
X-ALT-DESC;FMTTYPE=TEXT/HTML:
CATEGORIES:General
URL;VALUE=URI:https://arkdaletlc.org/mc-events/palm-sunday/
METHOD:PUBLISH
END:VEVENT
END:VCALENDAR