BEGIN:VCALENDAR
VERSION:2.0
PRODID:spatie/icalendar-generator
DESCRIPTION:Events from Trinity Lutheran Church ELCA - Arkdale\, WI
X-WR-CALDESC:Events from Trinity Lutheran Church ELCA - Arkdale\, WI
REFRESH-INTERVAL;VALUE=DURATION:PT1440M
X-PUBLISHED-TTL:PT1440M
BEGIN:VTIMEZONE
TZID:Etc/GMT+0
BEGIN:STANDARD
DTSTART:20250702T100000Z
TZOFFSETFROM:+0000
TZOFFSETTO:+0000
END:STANDARD
END:VTIMEZONE
BEGIN:VTIMEZONE
TZID:UTC
BEGIN:STANDARD
DTSTART:20250727T132703Z
TZOFFSETFROM:+0000
TZOFFSETTO:+0000
END:STANDARD
END:VTIMEZONE
BEGIN:VEVENT
UID:7378-1193
DTSTAMP:20260423T132703Z
SUMMARY:Fellowship
LOCATION:
ORGANIZER;CN=Danna Peterson:MAILTO:churchoffice@arkdaletlc.org
RRULE:FREQ=WEEKLY;UNTIL=20260524T000000Z
DTSTART;TZID=Etc/GMT+0:20260329T100000
DTEND;TZID=Etc/GMT+0:20260329T110000
X-ALT-DESC;FMTTYPE=TEXT/HTML:
CATEGORIES:General
URL;VALUE=URI:https://arkdaletlc.org/mc-events/fellowship/?mc_id=7378
METHOD:PUBLISH
END:VEVENT
END:VCALENDAR